Workbook

Sheet 예산
A1: 여행 예산표
A2: 통화와 금액을 넣으면 환율 시트 값으로 원화가 계산돼요. 실제 칸은 여행 중이나 끝난 뒤 채우세요. 예시 값은 지우고 쓰세요.
A4: 구분 | B4: 항목 | C4: 통화 | D4: 예산 금액 | E4: 환율 | F4: 예산 원화 | G4: 실제 원화 | H4: 차이
A5: 미리 낸 돈 | B5: 항공 | C5: KRW | D5: 350000 | E5: =IF(C5="","",VLOOKUP(C5,환율!$A$4:$B$12,2,FALSE)) | F5: =IF(OR(D5="",E5=""),"",D5*E5) | H5: =IF(OR(F5="",G5=""),"",F5-G5)
A6: 미리 낸 돈 | B6: 숙소 3박 | C6: JPY | D6: 26000 | E6: =IF(C6="","",VLOOKUP(C6,환율!$A$4:$B$12,2,FALSE)) | F6: =IF(OR(D6="",E6=""),"",D6*E6) | H6: =IF(OR(F6="",G6=""),"",F6-G6)
A7: 현지 고정비 | B7: 식비 4일 | C7: JPY | D7: 18000 | E7: =IF(C7="","",VLOOKUP(C7,환율!$A$4:$B$12,2,FALSE)) | F7: =IF(OR(D7="",E7=""),"",D7*E7) | H7: =IF(OR(F7="",G7=""),"",F7-G7)
A8: 현지 고정비 | B8: 교통 4일 | C8: JPY | D8: 6500 | E8: =IF(C8="","",VLOOKUP(C8,환율!$A$4:$B$12,2,FALSE)) | F8: =IF(OR(D8="",E8=""),"",D8*E8) | H8: =IF(OR(F8="",G8=""),"",F8-G8)
A9: 추가 요금 | B9: 유심, 보험 | C9: KRW | D9: 30000 | E9: =IF(C9="","",VLOOKUP(C9,환율!$A$4:$B$12,2,FALSE)) | F9: =IF(OR(D9="",E9=""),"",D9*E9) | H9: =IF(OR(F9="",G9=""),"",F9-G9)
A10: 여유 자금 | B10: 쇼핑, 비상금 | C10: KRW | D10: 160000 | E10: =IF(C10="","",VLOOKUP(C10,환율!$A$4:$B$12,2,FALSE)) | F10: =IF(OR(D10="",E10=""),"",D10*E10) | H10: =IF(OR(F10="",G10=""),"",F10-G10)
E11: =IF(C11="","",VLOOKUP(C11,환율!$A$4:$B$12,2,FALSE)) | F11: =IF(OR(D11="",E11=""),"",D11*E11) | H11: =IF(OR(F11="",G11=""),"",F11-G11)
E12: =IF(C12="","",VLOOKUP(C12,환율!$A$4:$B$12,2,FALSE)) | F12: =IF(OR(D12="",E12=""),"",D12*E12) | H12: =IF(OR(F12="",G12=""),"",F12-G12)
E13: =IF(C13="","",VLOOKUP(C13,환율!$A$4:$B$12,2,FALSE)) | F13: =IF(OR(D13="",E13=""),"",D13*E13) | H13: =IF(OR(F13="",G13=""),"",F13-G13)
E14: =IF(C14="","",VLOOKUP(C14,환율!$A$4:$B$12,2,FALSE)) | F14: =IF(OR(D14="",E14=""),"",D14*E14) | H14: =IF(OR(F14="",G14=""),"",F14-G14)
E15: =IF(C15="","",VLOOKUP(C15,환율!$A$4:$B$12,2,FALSE)) | F15: =IF(OR(D15="",E15=""),"",D15*E15) | H15: =IF(OR(F15="",G15=""),"",F15-G15)
E16: =IF(C16="","",VLOOKUP(C16,환율!$A$4:$B$12,2,FALSE)) | F16: =IF(OR(D16="",E16=""),"",D16*E16) | H16: =IF(OR(F16="",G16=""),"",F16-G16)
E17: =IF(C17="","",VLOOKUP(C17,환율!$A$4:$B$12,2,FALSE)) | F17: =IF(OR(D17="",E17=""),"",D17*E17) | H17: =IF(OR(F17="",G17=""),"",F17-G17)
E18: =IF(C18="","",VLOOKUP(C18,환율!$A$4:$B$12,2,FALSE)) | F18: =IF(OR(D18="",E18=""),"",D18*E18) | H18: =IF(OR(F18="",G18=""),"",F18-G18)
E19: =IF(C19="","",VLOOKUP(C19,환율!$A$4:$B$12,2,FALSE)) | F19: =IF(OR(D19="",E19=""),"",D19*E19) | H19: =IF(OR(F19="",G19=""),"",F19-G19)
E20: =IF(C20="","",VLOOKUP(C20,환율!$A$4:$B$12,2,FALSE)) | F20: =IF(OR(D20="",E20=""),"",D20*E20) | H20: =IF(OR(F20="",G20=""),"",F20-G20)
E21: =IF(C21="","",VLOOKUP(C21,환율!$A$4:$B$12,2,FALSE)) | F21: =IF(OR(D21="",E21=""),"",D21*E21) | H21: =IF(OR(F21="",G21=""),"",F21-G21)
E22: =IF(C22="","",VLOOKUP(C22,환율!$A$4:$B$12,2,FALSE)) | F22: =IF(OR(D22="",E22=""),"",D22*E22) | H22: =IF(OR(F22="",G22=""),"",F22-G22)
... E44: =IF(C44="","",VLOOKUP(C44,환율!$A$4:$B$12,2,FALSE)) | F44: =IF(OR(D44="",E44=""),"",D44*E44) | H44: =IF(OR(F44="",G44=""),"",F44-G44)
E45: 합계 | F45: =SUM(F5:F44) | G45: =SUM(G5:G44) | H45: =SUM(H5:H44)

Sheet 환율
A1: 환율 표
A2: 통화 1단위당 원화예요. 아래 값은 설명용 가정이니 출발 전 실제 환율로 바꾸세요.
A3: 통화 | B3: 1단위당 원화 | C3: 메모
A4: KRW | B4: 1 | C4: 원화
A5: JPY | B5: 9 | C5: 100엔=900원 가정
A6: USD | B6: 1400 | C6: 가정
A7: EUR | B7: 1600 | C7: 가정
A8: TWD | B8: 44 | C8: 가정
A9: THB | B9: 40 | C9: 가정
A10: VND | B10: 0.055 | C10: 1,000동=55원 가정
